BEGIN:VCALENDAR
VERSION:2.0
PRODID:-//Shamanic Willow - ECPv6.15.17.1//NONSGML v1.0//EN
CALSCALE:GREGORIAN
METHOD:PUBLISH
X-WR-CALNAME:Shamanic Willow
X-ORIGINAL-URL:https://shamanicwillow.co.uk
X-WR-CALDESC:Events for Shamanic Willow
REFRESH-INTERVAL;VALUE=DURATION:PT1H
X-Robots-Tag:noindex
X-PUBLISHED-TTL:PT1H
BEGIN:VTIMEZONE
TZID:Europe/London
BEGIN:DAYLIGHT
TZOFFSETFROM:+0000
TZOFFSETTO:+0100
TZNAME:BST
DTSTART:20240331T010000
END:DAYLIGHT
BEGIN:STANDARD
TZOFFSETFROM:+0100
TZOFFSETTO:+0000
TZNAME:GMT
DTSTART:20241027T010000
END:STANDARD
BEGIN:DAYLIGHT
TZOFFSETFROM:+0000
TZOFFSETTO:+0100
TZNAME:BST
DTSTART:20250330T010000
END:DAYLIGHT
BEGIN:STANDARD
TZOFFSETFROM:+0100
TZOFFSETTO:+0000
TZNAME:GMT
DTSTART:20251026T010000
END:STANDARD
BEGIN:DAYLIGHT
TZOFFSETFROM:+0000
TZOFFSETTO:+0100
TZNAME:BST
DTSTART:20260329T010000
END:DAYLIGHT
BEGIN:STANDARD
TZOFFSETFROM:+0100
TZOFFSETTO:+0000
TZNAME:GMT
DTSTART:20261025T010000
END:STANDARD
BEGIN:DAYLIGHT
TZOFFSETFROM:+0000
TZOFFSETTO:+0100
TZNAME:BST
DTSTART:20270328T010000
END:DAYLIGHT
BEGIN:STANDARD
TZOFFSETFROM:+0100
TZOFFSETTO:+0000
TZNAME:GMT
DTSTART:20271031T010000
END:STANDARD
END:VTIMEZONE
BEGIN:VEVENT
DTSTART;TZID=Europe/London:20251029T190000
DTEND;TZID=Europe/London:20251029T203000
DTSTAMP:20260419T210458
CREATED:20241214T152706Z
LAST-MODIFIED:20251001T095445Z
UID:8181-1761764400-1761769800@shamanicwillow.co.uk
SUMMARY:Magical Samhain Journal Gathering
DESCRIPTION:Weaving of Words and Ink at Samhain\nThis will be a magical online gathering as we journal together with a stir of a cauldron and a splash of magic. \nFollowing the Pagan Wheel of the Year\, Samhain\, the end of the old year\, the beginning of the new year. A time of thinning veils and Ancestors. \nSo\, during Samhain energy\, let us join for the weaving words and ink combined…. with maybe a spell or two! \nLet the magic unfold on our Journal pages. \nIn Preparation\n\nCreate a sacred magical space\nHave your magical Journal and a pen with magical coloured ink\nA Candle\nA Cauldron if you have one\n\nInvestment\nYour investment is your time 0f 1.5 hours \nCost £25 \nOnline Zoom Invite\nThis is an online Gathering \nA zoom invite will be sent to you upon booking
URL:https://shamanicwillow.co.uk/event/magical-samhain-journal-gathering/
CATEGORIES:journal gathering,Journal Journey,magical journal
ATTACH;FMTTYPE=image/jpeg:https://shamanicwillow.co.uk/wp-content/uploads/2023/11/Screenshot_20231104-201749_Gallery.jpg
END:VEVENT
BEGIN:VEVENT
DTSTART;TZID=Europe/London:20251030T190000
DTEND;TZID=Europe/London:20251030T200000
DTSTAMP:20260419T210458
CREATED:20241214T004630Z
LAST-MODIFIED:20241214T141037Z
UID:3413-1761850800-1761854400@shamanicwillow.co.uk
SUMMARY:Cauldron of the Crone - Samhain Ceremony
DESCRIPTION:Are you ready…are you really ready to stir the Cauldron of the Crone in ceremony?!\nAre you ready to step into the darkness with Cerridwen and step out through the veils of transformation?\nJoin me to celebrate Samhain the time in the Wheel of the Year where the veils between worlds are thin. \nConnect with Crone Cerridwen\, Keeper of the Cauldron. A time for transformation and a time for honouring those who have passed. \nCome Stir the Cauldron of the Ancestors and Witches of the past. \n***This is an online Ceremony*** \nPlease be prepared with the following Items: \n\nA small Black candle in a holder (White if you do not have a black candle )\nA comfortable place to sit\nNotebook and pen\nAnything special that you may wish to put on your indoor Altar at home to represent this time…photos of loved ones\, maybe witch symbolism too.\n\nA zoom invite will be sent to you on booking prior to the ceremony.
URL:https://shamanicwillow.co.uk/event/cauldron-of-the-crone-samhain-ceremony/
LOCATION:Bournemouth\, 3 Youngs Road\, Bournemouth\, Dorset\, BH11 9EW\, United Kingdom
CATEGORIES:Ceremonies
ATTACH;FMTTYPE=image/jpeg:https://shamanicwillow.co.uk/wp-content/uploads/2019/09/shamanic-ceremonies-background-image.jpg
ORGANIZER;CN="Willow":MAILTO:info@shamanicwillow.co.uk
END:VEVENT
BEGIN:VEVENT
DTSTART;TZID=Europe/London:20251218T190000
DTEND;TZID=Europe/London:20251218T203000
DTSTAMP:20260419T210458
CREATED:20241214T153635Z
LAST-MODIFIED:20250720T124827Z
UID:8193-1766084400-1766089800@shamanicwillow.co.uk
SUMMARY:Magical Winter Solstice Journal Gathering
DESCRIPTION:Weaving of Words and Ink at Winter Solstice\nThis will be a magical online gathering as we journal together with a stir of a cauldron and a splash of magic. \nFollowing the Pagan Wheel of the Year\, Winter Solstice\, the magical time of stillnes\, the Pause and Returtning light. \nSo\, during Winter Solstice energy\, let us join for the weaving words and ink combined…. with maybe a spell or two! \nLet the magic unfold on our Journal pages. \nIn Preparation\n\nCreate a sacred magical space\nHave your magical Journal and a pen with magical coloured ink\nA Candle\nA Cauldron if you have one\n\nInvestment\nYour investment is your time 0f 1.5 hours \nCost £25 \nOnline Zoom Invite\nThis is an online Gathering \nA zoom invite will be sent to you upon booking
URL:https://shamanicwillow.co.uk/event/magical-winter-solstice-journal-gathering-2/
CATEGORIES:journal gathering,Journal Journey,magical journal
ATTACH;FMTTYPE=image/jpeg:https://shamanicwillow.co.uk/wp-content/uploads/2023/11/Screenshot_20231104-201749_Gallery.jpg
END:VEVENT
BEGIN:VEVENT
DTSTART;TZID=Europe/London:20251219T190000
DTEND;TZID=Europe/London:20251219T200000
DTSTAMP:20260419T210458
CREATED:20241214T104732Z
LAST-MODIFIED:20241214T133910Z
UID:3415-1766170800-1766174400@shamanicwillow.co.uk
SUMMARY:Yule – Winter Solstice – Ceremony
DESCRIPTION:Join me to celebrate Yule\, Winter Solstice. A time of the shortest day and longest night.  Honouring the Element of Earth. Embracing Winter. We will be having an understanding on what this turn of the Wheel represents. Honouring Cerridwen at this time. \nThis is an online Ceremony. \nPlease be prepared with the following Items: \n\nA small Silver candle in a holder (White if you do not have a silver candle )\nA comfortable place to sit\nNotebook and pen\nAnything special that you may wish to put on your indoor Altar at home to represent this time.\n\nThis is an online Ceremony.
URL:https://shamanicwillow.co.uk/event/yule-winter-solstice-ceremony/
LOCATION:Bournemouth\, 3 Youngs Road\, Bournemouth\, Dorset\, BH11 9EW\, United Kingdom
CATEGORIES:Ceremonies
ATTACH;FMTTYPE=image/jpeg:https://shamanicwillow.co.uk/wp-content/uploads/2022/08/2018-02-25-07-37-31.jpg
ORGANIZER;CN="Willow":MAILTO:info@shamanicwillow.co.uk
END:VEVENT
BEGIN:VEVENT
DTSTART;TZID=Europe/London:20260122T190000
DTEND;TZID=Europe/London:20260122T203000
DTSTAMP:20260419T210458
CREATED:20250720T133037Z
LAST-MODIFIED:20250720T134012Z
UID:8061-1769108400-1769113800@shamanicwillow.co.uk
SUMMARY:Magical Imbolc Journal Gathering
DESCRIPTION:Weaving of Words and Ink at Imbolc\nThis will be a magical online gathering as we journal together with a stir of a cauldron and a splash of magic. \nFollowing the Pagan Wheel of the Year\, Imbolc is the time of Awakening. \nSo\, during Imbolc energy\, let us join for the weaving words and ink combined…. with maybe a spell or two! \nLet the magic unfold on our Journal pages. \nIn Preparation\n\nCreate a sacred magical space\nHave your magical Journal and a pen with magical coloured ink\nA Candle\nA Cauldron if you have one\n\nInvestment\nYour investment is your time 0f 1.5 hours \nCost £25 \nOnline Zoom Invite\nThis is an online Gathering \nA zoom invite will be sent to you upon booking
URL:https://shamanicwillow.co.uk/event/magical-imbolc-journal-gathering/
CATEGORIES:journal gathering,Journal Journey,magical journal
ATTACH;FMTTYPE=image/jpeg:https://shamanicwillow.co.uk/wp-content/uploads/2023/11/Screenshot_20231104-201749_Gallery.jpg
END:VEVENT
BEGIN:VEVENT
DTSTART;TZID=Europe/London:20260305T190000
DTEND;TZID=Europe/London:20260305T203000
DTSTAMP:20260419T210458
CREATED:20250720T133050Z
LAST-MODIFIED:20250720T133853Z
UID:8071-1772737200-1772742600@shamanicwillow.co.uk
SUMMARY:Magical Spring Equinox Journal Gathering
DESCRIPTION:Weaving of Words and Ink at Spring Equinox\nThis will be a magical online gathering as we journal together with a stir of a cauldron and a splash of magic. \nFollowing the Pagan Wheel of the Year\, Spring Equinox\, the time of The Greening. \nSo\, during Spring Equinox energy\, let us join for the weaving words and ink combined…. with maybe a spell or two! \nLet the magic unfold on our Journal pages. \nIn Preparation\n\nCreate a sacred magical space\nHave your magical Journal and a pen with magical coloured ink\nA Candle\nA Cauldron if you have one\n\nInvestment\nYour investment is your time 0f 1.5 hours \nCost £25 \nOnline Zoom Invite\nThis is an online Gathering \nA zoom invite will be sent to you upon booking
URL:https://shamanicwillow.co.uk/event/magical-spring-equinox-journal-gathering/
CATEGORIES:journal gathering,Journal Journey,magical journal
ATTACH;FMTTYPE=image/jpeg:https://shamanicwillow.co.uk/wp-content/uploads/2023/11/Screenshot_20231104-201749_Gallery.jpg
END:VEVENT
BEGIN:VEVENT
DTSTART;TZID=Europe/London:20260416T190000
DTEND;TZID=Europe/London:20260416T203000
DTSTAMP:20260419T210458
CREATED:20250720T133042Z
LAST-MODIFIED:20250720T133336Z
UID:8147-1776366000-1776371400@shamanicwillow.co.uk
SUMMARY:Magical Beltane Journal Gathering
DESCRIPTION:Weaving of Words and Ink at Beltane\nThis will be a magical online gathering as we journal together with a stir of a cauldron and a splash of magic. \nFollowing the Pagan Wheel of the Year\, Beltane is the time of Love and Fertility. \nSo\, during Beltane energy\, let us join for the weaving words and ink combined…. with maybe a spell or two! \nLet the magic unfold on our Journal pages. \nIn Preparation\n\nCreate a sacred magical space\nHave your magical Journal and a pen with magical coloured ink\nA Candle\nA Cauldron if you have one\n\nInvestment\nYour investment is your time 0f 1.5 hours \nCost £25 \nOnline Zoom Invite\nThis is an online Gathering \nA zoom invite will be sent to you upon booking
URL:https://shamanicwillow.co.uk/event/magical-beltane-journal-gathering/
CATEGORIES:journal gathering,Journal Journey,magical journal
ATTACH;FMTTYPE=image/jpeg:https://shamanicwillow.co.uk/wp-content/uploads/2023/11/Screenshot_20231104-201749_Gallery.jpg
END:VEVENT
BEGIN:VEVENT
DTSTART;TZID=Europe/London:20260604T190000
DTEND;TZID=Europe/London:20260604T203000
DTSTAMP:20260419T210458
CREATED:20250720T133000Z
LAST-MODIFIED:20251001T102939Z
UID:8155-1780599600-1780605000@shamanicwillow.co.uk
SUMMARY:Magical Summer Solstice Journal Gathering
DESCRIPTION:Weaving of Words and Ink at Summer Solstice\nThis will be a magical online gathering as we journal together with a stir of a cauldron and a splash of magic. \nFollowing the Pagan Wheel of the Year\, Summer Solstice\, the Longest Day. \nSo\, during Summer Solstice energy\, let us join for the weaving words and ink combined…. with maybe a spell or two! \nLet the magic unfold on our Journal pages. \nIn Preparation\n\nCreate a sacred magical space\nHave your magical Journal and a pen with magical coloured ink\nA Candle\nA Cauldron if you have one\n\nInvestment\nYour investment is your time 0f 1.5 hours \nCost £25 \nOnline Zoom Invite\nThis is an online Gathering \nA zoom invite will be sent to you upon booking
URL:https://shamanicwillow.co.uk/event/magical-summer-solstice-journal-gathering/
CATEGORIES:journal gathering,Journal Journey,magical journal
ATTACH;FMTTYPE=image/jpeg:https://shamanicwillow.co.uk/wp-content/uploads/2023/11/Screenshot_20231104-201749_Gallery.jpg
END:VEVENT
BEGIN:VEVENT
DTSTART;TZID=Europe/London:20260723T190000
DTEND;TZID=Europe/London:20260723T203000
DTSTAMP:20260419T210458
CREATED:20251001T120531Z
LAST-MODIFIED:20251001T120548Z
UID:8173-1784833200-1784838600@shamanicwillow.co.uk
SUMMARY:Magical Lammas Journal Gathering
DESCRIPTION:Weaving of Words and Ink at Lammas\nThis will be a magical online gathering as we journal together with a stir of a cauldron and a splash of magic. \nFollowing the Pagan Wheel of the Year\, Lammas\, the time of the First Harvest\, Abundance. \nSo\, during Lammas energy\, let us join for the weaving words and ink combined…. with maybe a spell or two! \nLet the magic unfold on our Journal pages. \nIn Preparation\n\nCreate a sacred magical space\nHave your magical Journal and a pen with magical coloured ink\nA Candle\nA Cauldron if you have one\n\nInvestment\nYour investment is your time 0f 1.5 hours \nCost £25 \nOnline Zoom Invite\nThis is an online Gathering \nA zoom invite will be sent to you upon booking
URL:https://shamanicwillow.co.uk/event/magical-lammas-journal-gathering/
CATEGORIES:journal gathering,Journal Journey,magical journal
ATTACH;FMTTYPE=image/jpeg:https://shamanicwillow.co.uk/wp-content/uploads/2023/11/Screenshot_20231104-201749_Gallery.jpg
END:VEVENT
BEGIN:VEVENT
DTSTART;TZID=Europe/London:20260907T190000
DTEND;TZID=Europe/London:20260907T203000
DTSTAMP:20260419T210458
CREATED:20251001T101846Z
LAST-MODIFIED:20251001T102334Z
UID:8163-1788807600-1788813000@shamanicwillow.co.uk
SUMMARY:Magical Autumn Equinox Journal Gathering
DESCRIPTION:Weaving of Words and Ink at Autumn Equinox\nThis will be a magical online gathering as we journal together with a stir of a cauldron and a splash of magic. \nFollowing the Pagan Wheel of the Year\, Autumn Equinox the Second Harvest. \nSo\, during Autumn Equinox energy\, let us join for the weaving words and ink combined…. with maybe a spell or two! \nLet the magic unfold on our Journal pages. \nIn Preparation\n\nCreate a sacred magical space\nHave your magical Journal and a pen with magical coloured ink\nA Candle\nA Cauldron if you have one\n\nInvestment\nYour investment is your time 0f 1.5 hours \nCost £25 \nOnline Zoom Invite\nThis is an online Gathering \nA zoom invite will be sent to you upon booking
URL:https://shamanicwillow.co.uk/event/magical-autumn-equinox-journal-gathering/
CATEGORIES:journal gathering,Journal Journey,magical journal
ATTACH;FMTTYPE=image/jpeg:https://shamanicwillow.co.uk/wp-content/uploads/2023/11/Screenshot_20231104-201749_Gallery.jpg
END:VEVENT
END:VCALENDAR